BEGIN:VCALENDAR
VERSION:2.0
PRODID:-//Best bookstore café in Jacksonville, FL | Happy Medium Books Café - ECPv6.3.3.1//NONSGML v1.0//EN
CALSCALE:GREGORIAN
METHOD:PUBLISH
X-WR-CALNAME:Best bookstore café in Jacksonville, FL | Happy Medium Books Café
X-ORIGINAL-URL:https://happybooks.webpropsites.com
X-WR-CALDESC:Events for Best bookstore café in Jacksonville, FL | Happy Medium Books Café
REFRESH-INTERVAL;VALUE=DURATION:PT1H
X-Robots-Tag:noindex
X-PUBLISHED-TTL:PT1H
BEGIN:VTIMEZONE
TZID:UTC
BEGIN:STANDARD
TZOFFSETFROM:+0000
TZOFFSETTO:+0000
TZNAME:UTC
DTSTART:20240101T000000
END:STANDARD
END:VTIMEZONE
BEGIN:VEVENT
DTSTART;VALUE=DATE:20240311
DTEND;VALUE=DATE:20240312
DTSTAMP:20260425T031005
CREATED:20240314T180026Z
LAST-MODIFIED:20240314T180026Z
UID:577-1710115200-1710201599@happybooks.webpropsites.com
SUMMARY:Closed on Monday
DESCRIPTION:
URL:https://happybooks.webpropsites.com/events/closed-on-monday/
ATTACH;FMTTYPE=image/jpeg:https://happybooks.webpropsites.com/wp-content/uploads/2024/03/CLOSEDONMONDAY-1.jpg
END:VEVENT
BEGIN:VEVENT
DTSTART;VALUE=DATE:20240312
DTEND;VALUE=DATE:20240313
DTSTAMP:20260425T031005
CREATED:20240311T192044Z
LAST-MODIFIED:20240311T192044Z
UID:365-1710201600-1710287999@happybooks.webpropsites.com
SUMMARY:$2 Tuesdays @ the Café
DESCRIPTION:$2 drinks EVERY Tuesday!
URL:https://happybooks.webpropsites.com/events/2-tuesdays-the-cafe/
LOCATION:Happy Medium Books Cafe\, 2724 Park St\, Jacksonville\, FL\, 32205\, United States
ATTACH;FMTTYPE=image/jpeg:https://happybooks.webpropsites.com/wp-content/uploads/2024/03/Tuesday2.jpeg
END:VEVENT
END:VCALENDAR